BEGIN:VCALENDAR
VERSION:2.0
PRODID:-//Plumstead - ECPv6.15.16//NONSGML v1.0//EN
CALSCALE:GREGORIAN
METHOD:PUBLISH
X-WR-CALNAME:Plumstead
X-ORIGINAL-URL:https://plumstead.ray-jones.org.uk
X-WR-CALDESC:Events for Plumstead
REFRESH-INTERVAL;VALUE=DURATION:PT1H
X-Robots-Tag:noindex
X-PUBLISHED-TTL:PT1H
BEGIN:VTIMEZONE
TZID:Europe/London
BEGIN:DAYLIGHT
TZOFFSETFROM:+0000
TZOFFSETTO:+0100
TZNAME:BST
DTSTART:20220327T010000
END:DAYLIGHT
BEGIN:STANDARD
TZOFFSETFROM:+0100
TZOFFSETTO:+0000
TZNAME:GMT
DTSTART:20221030T010000
END:STANDARD
BEGIN:DAYLIGHT
TZOFFSETFROM:+0000
TZOFFSETTO:+0100
TZNAME:BST
DTSTART:20230326T010000
END:DAYLIGHT
BEGIN:STANDARD
TZOFFSETFROM:+0100
TZOFFSETTO:+0000
TZNAME:GMT
DTSTART:20231029T010000
END:STANDARD
BEGIN:DAYLIGHT
TZOFFSETFROM:+0000
TZOFFSETTO:+0100
TZNAME:BST
DTSTART:20240331T010000
END:DAYLIGHT
BEGIN:STANDARD
TZOFFSETFROM:+0100
TZOFFSETTO:+0000
TZNAME:GMT
DTSTART:20241027T010000
END:STANDARD
BEGIN:DAYLIGHT
TZOFFSETFROM:+0000
TZOFFSETTO:+0100
TZNAME:BST
DTSTART:20250330T010000
END:DAYLIGHT
BEGIN:STANDARD
TZOFFSETFROM:+0100
TZOFFSETTO:+0000
TZNAME:GMT
DTSTART:20251026T010000
END:STANDARD
END:VTIMEZONE
BEGIN:VEVENT
DTSTART;VALUE=DATE:20240412
DTEND;VALUE=DATE:20240415
DTSTAMP:20260419T145733
CREATED:20240303T131853Z
LAST-MODIFIED:20240303T131853Z
UID:1103-1712880000-1713139199@plumstead.ray-jones.org.uk
SUMMARY:Litter Picking
DESCRIPTION:Let’s keep our village pristine! Brian Faulkner writes: \n“At yesterday’s council meeting we agreed to go ahead with a litter pick in our village.  I am hopefully arranging to collect litter picking equipment etc from North Norfolk District Council and then fix a day / weekend for the event itself.  So as to be able to put details of this initiative in the village magazine I am provisionally looking at the weekend of 12th – 14th April.  Ruth Ridge (a fellow  parish councillor) and I will co ordinate arrangements. \nI am very glad that we can show care for our village in this way.” \nDates and times to be confirmed.
URL:https://plumstead.ray-jones.org.uk/event/litter-picking-2024/
END:VEVENT
BEGIN:VEVENT
DTSTART;TZID=Europe/London:20231110T190000
DTEND;TZID=Europe/London:20231110T193000
DTSTAMP:20260419T145733
CREATED:20231101T143257Z
LAST-MODIFIED:20231101T143321Z
UID:1086-1699642800-1699644600@plumstead.ray-jones.org.uk
SUMMARY:Villages by the Sea: Holkham
DESCRIPTION:A programme on BBC2 TV\, possibly including guest appearance from Keith Harding of Plumstead Green! \nBen Robinson makes an amazing discovery at Norfolk’s impressive Holkham estate – its lost medieval village\, seen for the first time since its disappearance some 200 years ago. \nThe current village was once owned by Thomas William Coke\, known as Coke of Norfolk\, who was one of the great farming reformers of his time\, instrumental in the agricultural revolution. Ben explores its oldest building\, the Ancient House\, as well as Holkham’s beautiful stately home and the Great Barn\, whose sheep shearing events are credited as the forerunner to today’s country shows.
URL:https://plumstead.ray-jones.org.uk/event/villages-by-the-sea-holkham/
END:VEVENT
BEGIN:VEVENT
DTSTART;VALUE=DATE:20230922
DTEND;VALUE=DATE:20231001
DTSTAMP:20260419T145733
CREATED:20230806T102734Z
LAST-MODIFIED:20230806T102734Z
UID:1082-1695340800-1696118399@plumstead.ray-jones.org.uk
SUMMARY:Michaelmas Fair
DESCRIPTION:Plumstead’s floral celebration for 2023. We will be decorating on 22nd September\, then\, from 23rd to 30th September there will be stalls of books\, plants\, crafts\, seasonal produce and children’s toys\, all for sale in aid of the restoration. \nMost importantly\, a throng of angels is needed! Adults and children are invited to create angels\, from any medium (e.g. clay\, card\, wool etc) for display in this event. Please bring them to the church on or before Saturday 23rd September. \n 
URL:https://plumstead.ray-jones.org.uk/event/michaelmas-fair/
LOCATION:St Michael’s Church\, Church St\, Plumstead\, Norwich\, Norfolk\, NR11 7LG\, United Kingdom
END:VEVENT
BEGIN:VEVENT
DTSTART;TZID=Europe/London:20230718T190000
DTEND;TZID=Europe/London:20230718T210000
DTSTAMP:20260419T145733
CREATED:20230530T142219Z
LAST-MODIFIED:20230530T142219Z
UID:1072-1689706800-1689714000@plumstead.ray-jones.org.uk
SUMMARY:Defibrillator Training
DESCRIPTION:Village Defibrillator\nAs most Plumstead villagers are aware\, we have a defibrillator located within the old red BT kiosk\non the Flagpole Garden. \nIt has been some years since our initial training on the device took place. Although no training is\nrequired to use the defibrillator it would be good to get as many villagers as possible familiar with\nits use\, so that confidence can be gained. \nA training session has been organised (for Plumstead residents only) to take place at 7pm on\nTuesday 18th July at Baconsthorpe Village Hall\, which will be provided by Paramedics of the East\nAnglian Ambulance Service. \nPlease contact Steve Price by Friday 14th July latest\, via email at steveprice30@hotmail.com or mobile 07895 025261 if you\nwould like to attend.
URL:https://plumstead.ray-jones.org.uk/event/defibrillator-training/
LOCATION:Baconsthorpe Village Hall\, Baconsthorpe\, Holt\, Norfolk\, NR25 6LJ\, United Kingdom
ATTACH;FMTTYPE=image/jpeg:https://plumstead.ray-jones.org.uk/wp-content/uploads/2023/01/defib-phone-box.jpg
END:VEVENT
BEGIN:VEVENT
DTSTART;TZID=Europe/London:20230603T120000
DTEND;TZID=Europe/London:20230603T160000
DTSTAMP:20260419T145733
CREATED:20230602T131309Z
LAST-MODIFIED:20230602T131309Z
UID:1075-1685793600-1685808000@plumstead.ray-jones.org.uk
SUMMARY:Bug Hunt!
DESCRIPTION:St Michael’s Church has joined ‘Churches Count on Nature’ week and invites all who can\, especially children\, to come and see how many bugs and interesting plants we can find in our churchyard. You are welcome to bring your own picnics\, magnifying glasses\, bug collecting pots and so on. \nWe will provide recording sheets\, drinks\, and shelter if necessary. \nWe also hope to be able to start building our first bug hotel\, and you can help by bringing things to fill it\, such as pine cones\, hollow sticks\, old canes\, straw\, wood chips\, bark\, dry leaves\, bits of broken terrace pots\, and your own ideas!
URL:https://plumstead.ray-jones.org.uk/event/bug-hunt/
LOCATION:St Michael’s Church\, Church St\, Plumstead\, Norwich\, Norfolk\, NR11 7LG\, United Kingdom
ATTACH;FMTTYPE=image/jpeg:https://plumstead.ray-jones.org.uk/wp-content/uploads/2023/06/CCON-logo-green-1-152x300-1.jpg
END:VEVENT
BEGIN:VEVENT
DTSTART;TZID=Europe/London:20230506T160000
DTEND;TZID=Europe/London:20230506T183000
DTSTAMP:20260419T145733
CREATED:20230427T221327Z
LAST-MODIFIED:20230427T221327Z
UID:1065-1683388800-1683397800@plumstead.ray-jones.org.uk
SUMMARY:Picnic to celebrate the coronation of King Charles III
DESCRIPTION:There will be a bring your own picnic at the Flagpole Garden on Saturday 6th May at 4pm. \nHopefully the sun will shine\, there will be bunting up and it will be an opportunity to catch up with friends and neighbours as well as raising a toast to the King. \nEveryone welcome\, please let your neighbours know!
URL:https://plumstead.ray-jones.org.uk/event/picnic-to-celebrate-the-coronation-of-king-charles-iii/
LOCATION:St Michael’s Church\, Church St\, Plumstead\, Norwich\, Norfolk\, NR11 7LG\, United Kingdom
ORGANIZER;CN="Heather De":MAILTO:heatherinbloom1@yahoo.co.uk
END:VEVENT
BEGIN:VEVENT
DTSTART;VALUE=DATE:20230410
DTEND;VALUE=DATE:20230411
DTSTAMP:20260419T145733
CREATED:20230117T105732Z
LAST-MODIFIED:20230323T093237Z
UID:439-1681084800-1681171199@plumstead.ray-jones.org.uk
SUMMARY:Table-top sale in aid of the church
DESCRIPTION:Sale of Gardenia\, Plants\, Cakes\, Books\, Cards\, Crafts and refreshments on the Flagpole Garden\, beside the church. \nAlso\, there will be dancing provided by the Holt Ridge Morris team\, starting at 12 noon. https://www.facebook.com/HoltRidgeMorrisDancers \n 
URL:https://plumstead.ray-jones.org.uk/event/table-top-sale-in-aid-of-the-church/
LOCATION:St Michael’s Church\, Church St\, Plumstead\, Norwich\, Norfolk\, NR11 7LG\, United Kingdom
ATTACH;FMTTYPE=image/jpeg:https://plumstead.ray-jones.org.uk/wp-content/uploads/2023/01/easter-monday-23.jpg
ORGANIZER;CN="Catherine McMahon":MAILTO:cmcmahon161@gmail.com
END:VEVENT
BEGIN:VEVENT
DTSTART;TZID=Europe/London:20230408T120000
DTEND;TZID=Europe/London:20230415T170000
DTSTAMP:20260419T145733
CREATED:20230313T153227Z
LAST-MODIFIED:20230313T155459Z
UID:1015-1680955200-1681578000@plumstead.ray-jones.org.uk
SUMMARY:Plumstead in Flower
DESCRIPTION:Come and see our Easter Garden and spring flowers. \nCakes and craft sales throughout the week.
URL:https://plumstead.ray-jones.org.uk/event/plumstead-in-flower/
LOCATION:St Michael’s Church\, Church St\, Plumstead\, Norwich\, Norfolk\, NR11 7LG\, United Kingdom
ATTACH;FMTTYPE=image/jpeg:https://plumstead.ray-jones.org.uk/wp-content/uploads/2023/03/easter-23.jpg
END:VEVENT
BEGIN:VEVENT
DTSTART;TZID=Europe/London:20230408T090000
DTEND;TZID=Europe/London:20230408T120000
DTSTAMP:20260419T145733
CREATED:20230117T104722Z
LAST-MODIFIED:20230117T104722Z
UID:435-1680944400-1680955200@plumstead.ray-jones.org.uk
SUMMARY:Decorate the church for Easter
DESCRIPTION:Decorating done by midday on Saturday 8th April\, preferably that morning\, although if absolutely necessary it could be done on Good Friday afternoon
URL:https://plumstead.ray-jones.org.uk/event/decorate-the-church-for-easter/
LOCATION:St Michael’s Church\, Church St\, Plumstead\, Norwich\, Norfolk\, NR11 7LG\, United Kingdom
ORGANIZER;CN="Catherine McMahon":MAILTO:cmcmahon161@gmail.com
END:VEVENT
END:VCALENDAR